BEGIN:VCALENDAR
VERSION:2.0
PRODID:-//89.110.144.62//NONSGML kigkonsult.se iCalcreator 2.20//
CALSCALE:GREGORIAN
METHOD:PUBLISH
X-WR-TIMEZONE:Europe/Berlin
BEGIN:VEVENT
UID:event70@Heimatmuseum Lütgendortmund | Haus Dellwig
DTSTAMP:20260422T235025Z
CATEGORIES:Heimatmuseum
DESCRIPTION:Aufräum- und Putztag\nKategorie: Heimatmuseum\nICS-Link: https:
 //www.dellwig-braeu.de/index.php?option=com_jem&view=event&id=70:aufraeum-
 und-putztag\n
DTSTART;TZID=Europe/Berlin:20260509T100000
DTEND;TZID=Europe/Berlin:20260509T100000
SUMMARY:Aufräum- und Putztag
URL:https://www.dellwig-braeu.de/index.php?option=com_jem&view=event&id=70:
 aufraeum-und-putztag
END:VEVENT
END:VCALENDAR